BEGIN:VCALENDAR
VERSION:2.0
BEGIN:VEVENT
DTSTART;TZID=Europe/Stockholm:20251221T110000
DTEND;TZID=Europe/Stockholm:20251221T120000
DTSTAMP:20260421T014243
DESCRIPTION:Drama: Samling runt julkrubban. 
Joakim Götborg m.fl.
SEQUENCE:0
SUMMARY:Gudstjänst hos Eqk Väse
UID:3984@lawebb.se
END:VEVENT
END:VCALENDAR