BEGIN:VCALENDAR
VERSION:2.0
BEGIN:VEVENT
DTSTART;TZID=Europe/Stockholm:20251217T203000
DTEND;TZID=Europe/Stockholm:20251217T213000
DTSTAMP:20260421T014550
DESCRIPTION:
SEQUENCE:0
SUMMARY:Bön hemma
UID:8265@lawebb.se
END:VEVENT
END:VCALENDAR