BEGIN:VCALENDAR
VERSION:2.0
BEGIN:VEVENT
DTSTART;TZID=Europe/Stockholm:20251216T140000
DTEND;TZID=Europe/Stockholm:20251216T150000
DTSTAMP:20260421T014730
DESCRIPTION:Ingemar Mattsson sjunger in julen och berättar om julevangeliet.
SEQUENCE:0
SUMMARY:Sångstund på Ölmegården
UID:2443@lawebb.se
END:VEVENT
END:VCALENDAR