BEGIN:VCALENDAR
VERSION:2.0
BEGIN:VEVENT
DTSTART;TZID=Europe/Stockholm:20251215T180000
DTEND;TZID=Europe/Stockholm:20251215T190000
DTSTAMP:20260421T014144
DESCRIPTION:
SEQUENCE:0
SUMMARY:Styrelsemöte i Klippan
UID:8657@lawebb.se
END:VEVENT
END:VCALENDAR