BEGIN:VCALENDAR
VERSION:2.0
BEGIN:VEVENT
DTSTART;TZID=Europe/Stockholm:20251214T110000
DTEND;TZID=Europe/Stockholm:20251214T120000
DTSTAMP:20260421T014648
DESCRIPTION:Denna söndag får vi lyssna till Ulf Eriksson och scouter m.fl.
SEQUENCE:0
SUMMARY:Scoutgudstjänst i Klippan
UID:2857@lawebb.se
END:VEVENT
END:VCALENDAR