BEGIN:VCALENDAR
VERSION:2.0
BEGIN:VEVENT
DTSTART;TZID=Europe/Stockholm:20251209T181500
DTEND;TZID=Europe/Stockholm:20251209T191500
DTSTAMP:20260421T014719
DESCRIPTION:
SEQUENCE:0
SUMMARY:Scoutträff i Klippan
UID:8893@lawebb.se
END:VEVENT
END:VCALENDAR