BEGIN:VCALENDAR
VERSION:2.0
BEGIN:VEVENT
DTSTART;TZID=Europe/Stockholm:20251207T110000
DTEND;TZID=Europe/Stockholm:20251207T120000
DTSTAMP:20260421T014822
DESCRIPTION:Joakim Götborg med flera
SEQUENCE:0
SUMMARY:Gudstjänst i Eqk Väse
UID:3584@lawebb.se
END:VEVENT
END:VCALENDAR