BEGIN:VCALENDAR
VERSION:2.0
BEGIN:VEVENT
DTSTART;TZID=Europe/Stockholm:20251203T203000
DTEND;TZID=Europe/Stockholm:20251203T213000
DTSTAMP:20260421T014720
DESCRIPTION:
SEQUENCE:0
SUMMARY:Bön i Klippan och hemma
UID:3539@lawebb.se
END:VEVENT
END:VCALENDAR