BEGIN:VCALENDAR
VERSION:2.0
BEGIN:VEVENT
DTSTART;TZID=Europe/Stockholm:20251202T181500
DTEND;TZID=Europe/Stockholm:20251202T191500
DTSTAMP:20260421T014617
DESCRIPTION:
SEQUENCE:0
SUMMARY:Scoutträff i Klippan
UID:9944@lawebb.se
END:VEVENT
END:VCALENDAR