BEGIN:VCALENDAR
VERSION:2.0
BEGIN:VEVENT
DTSTART;TZID=Europe/Stockholm:20251130T110000
DTEND;TZID=Europe/Stockholm:20251130T120000
DTSTAMP:20260421T032425
DESCRIPTION:Gudstjänst på Första Advent med Joakim Götborg, Tonika m.fl.
SEQUENCE:0
SUMMARY:Gudstjänst hos Eqk Väse
UID:9773@lawebb.se
END:VEVENT
END:VCALENDAR