BEGIN:VCALENDAR
VERSION:2.0
BEGIN:VEVENT
DTSTART;TZID=Europe/Stockholm:20251129T170000
DTEND;TZID=Europe/Stockholm:20251129T180000
DTSTAMP:20260421T032948
DESCRIPTION:Den traditionella julmässan innehåller andakt, scouternas försäljning av godis,  loppisbord med julsaker, servering och auktion av skänkta saker som är ätbara eller annat njutbart.
SEQUENCE:0
SUMMARY:Julmarknad i Klippan
UID:7732@lawebb.se
END:VEVENT
END:VCALENDAR