BEGIN:VCALENDAR
VERSION:2.0
BEGIN:VEVENT
DTSTART;TZID=Europe/Stockholm:20251128T170000
DTEND;TZID=Europe/Stockholm:20251128T180000
DTSTAMP:20260421T032528
DESCRIPTION:Tar emot vinster och varor till försäljning.
SEQUENCE:0
SUMMARY:Förbereder för i morgon
UID:5659@lawebb.se
END:VEVENT
END:VCALENDAR