BEGIN:VCALENDAR
VERSION:2.0
BEGIN:VEVENT
DTSTART;TZID=Europe/Stockholm:20251125T140000
DTEND;TZID=Europe/Stockholm:20251125T150000
DTSTAMP:20260421T032912
DESCRIPTION:
SEQUENCE:0
SUMMARY:Sångstund på Ölmegården
UID:6932@lawebb.se
END:VEVENT
END:VCALENDAR