BEGIN:VCALENDAR
VERSION:2.0
BEGIN:VEVENT
DTSTART;TZID=Europe/Stockholm:20251123T110000
DTEND;TZID=Europe/Stockholm:20251123T120000
DTSTAMP:20260421T032528
DESCRIPTION:Joakim Götborg med flera
SEQUENCE:0
SUMMARY:Tonårsgudstjänst i Eqk Väse
UID:7898@lawebb.se
END:VEVENT
END:VCALENDAR