BEGIN:VCALENDAR
VERSION:2.0
BEGIN:VEVENT
DTSTART;TZID=Europe/Stockholm:20251122T130000
DTEND;TZID=Europe/Stockholm:20251122T140000
DTSTAMP:20260421T033025
DESCRIPTION:Kl 13-16 är julmarknaden öppen i och vid Equmeniakyrkan på Hammargatan. Lotterier, korvförsäljning, kaffe & tårta, försäljning av hembakt, julgodis m.m. Hållplats Loppis är också öppen.
SEQUENCE:0
SUMMARY:Julmarknad vid Eqk Väse
UID:3675@lawebb.se
END:VEVENT
END:VCALENDAR