BEGIN:VCALENDAR
VERSION:2.0
BEGIN:VEVENT
DTSTART;TZID=Europe/Stockholm:20251119T203000
DTEND;TZID=Europe/Stockholm:20251119T213000
DTSTAMP:20260421T032651
DESCRIPTION:
SEQUENCE:0
SUMMARY:Bön i Klippan och hemma
UID:3859@lawebb.se
END:VEVENT
END:VCALENDAR