BEGIN:VCALENDAR
VERSION:2.0
BEGIN:VEVENT
DTSTART;TZID=Europe/Stockholm:20251116T180000
DTEND;TZID=Europe/Stockholm:20251116T190000
DTSTAMP:20260421T032600
DESCRIPTION:Aftongudstjänst med nattvard tillsammans med Jenny Persson.
SEQUENCE:0
SUMMARY:Gudstjänst i Klippan
UID:7327@lawebb.se
END:VEVENT
END:VCALENDAR