BEGIN:VCALENDAR
VERSION:2.0
BEGIN:VEVENT
DTSTART;TZID=Europe/Stockholm:20251116T110000
DTEND;TZID=Europe/Stockholm:20251116T120000
DTSTAMP:20260421T032929
DESCRIPTION:Joakim Götborg och sång av Frida Andersson.
SEQUENCE:0
SUMMARY:Gudstjänst med nattvard i Eqk Väse
UID:2676@lawebb.se
END:VEVENT
END:VCALENDAR