BEGIN:VCALENDAR
VERSION:2.0
BEGIN:VEVENT
DTSTART;TZID=Europe/Stockholm:20251112T203000
DTEND;TZID=Europe/Stockholm:20251112T213000
DTSTAMP:20260421T032739
DESCRIPTION:
SEQUENCE:0
SUMMARY:Bön i Klippan och hemma
UID:2543@lawebb.se
END:VEVENT
END:VCALENDAR