BEGIN:VCALENDAR
VERSION:2.0
BEGIN:VEVENT
DTSTART;TZID=Europe/Stockholm:20251109T110000
DTEND;TZID=Europe/Stockholm:20251109T120000
DTSTAMP:20260421T032901
DESCRIPTION:Gunlög Ehne
SEQUENCE:0
SUMMARY:Gudstjänst i Eqk Väse
UID:4447@lawebb.se
END:VEVENT
END:VCALENDAR