BEGIN:VCALENDAR
VERSION:2.0
BEGIN:VEVENT
DTSTART;TZID=Europe/Stockholm:20251108T190000
DTEND;TZID=Europe/Stockholm:20251108T200000
DTSTAMP:20260421T032804
DESCRIPTION:Kväll om en resa till Kina - det stora landet i öster. Ann-Britt och Yngve Nyberg berättar och visar bilder.
SEQUENCE:0
SUMMARY:Cafékväll i Klippan
UID:6637@lawebb.se
END:VEVENT
END:VCALENDAR