BEGIN:VCALENDAR
VERSION:2.0
BEGIN:VEVENT
DTSTART;TZID=Europe/Stockholm:20251105T203000
DTEND;TZID=Europe/Stockholm:20251105T213000
DTSTAMP:20260421T032559
DESCRIPTION:
SEQUENCE:0
SUMMARY:Bön i Klippan och hemma
UID:9557@lawebb.se
END:VEVENT
END:VCALENDAR