BEGIN:VCALENDAR
VERSION:2.0
BEGIN:VEVENT
DTSTART;TZID=Europe/Stockholm:20251102T110000
DTEND;TZID=Europe/Stockholm:20251102T120000
DTSTAMP:20260421T032425
DESCRIPTION:Minnesgudstjänst på Alla själars dag med Ingemar Mattsson med flera. Ljus tänds för saknade.
SEQUENCE:0
SUMMARY:Gudstjänst i Klippan
UID:2596@lawebb.se
END:VEVENT
END:VCALENDAR