BEGIN:VCALENDAR
VERSION:2.0
BEGIN:VEVENT
DTSTART;TZID=Europe/Stockholm:20251101T180000
DTEND;TZID=Europe/Stockholm:20251101T190000
DTSTAMP:20260421T032511
DESCRIPTION:Fredag och lördag är kyrkan öppen för ljuständning och stillhet på em och afton.
Allahelgons dag kl 18 är det gudstjänst med Sara Flodquist, Ingela Johansson och kören No Silence.
SEQUENCE:0
SUMMARY:Minnesgudstjänst i Ölme kyrka
UID:7492@lawebb.se
END:VEVENT
END:VCALENDAR