BEGIN:VCALENDAR
VERSION:2.0
BEGIN:VEVENT
DTSTART;TZID=Europe/Stockholm:20251030T150000
DTEND;TZID=Europe/Stockholm:20251030T160000
DTSTAMP:20260421T051619
DESCRIPTION:
SEQUENCE:0
SUMMARY:Stickcafé hos Eqk Väse
UID:4248@lawebb.se
END:VEVENT
END:VCALENDAR