BEGIN:VCALENDAR
VERSION:2.0
BEGIN:VEVENT
DTSTART;TZID=Europe/Stockholm:20251029T203000
DTEND;TZID=Europe/Stockholm:20251029T213000
DTSTAMP:20260421T051921
DESCRIPTION:
SEQUENCE:0
SUMMARY:Bön i Klippan och hemma
UID:2842@lawebb.se
END:VEVENT
END:VCALENDAR