BEGIN:VCALENDAR
VERSION:2.0
BEGIN:VEVENT
DTSTART;TZID=Europe/Stockholm:20251028T140000
DTEND;TZID=Europe/Stockholm:20251028T150000
DTSTAMP:20260421T052125
DESCRIPTION:Yngve och Pelle samt några sångare.
SEQUENCE:0
SUMMARY:Sångstund på Ölmegården
UID:9792@lawebb.se
END:VEVENT
END:VCALENDAR