BEGIN:VCALENDAR
VERSION:2.0
BEGIN:VEVENT
DTSTART;TZID=Europe/Stockholm:20251026T110000
DTEND;TZID=Europe/Stockholm:20251026T120000
DTSTAMP:20260421T052109
DESCRIPTION:Joakim Götborg med flera
SEQUENCE:0
SUMMARY:Gudstjänst hos Eqk Väse
UID:3643@lawebb.se
END:VEVENT
END:VCALENDAR