BEGIN:VCALENDAR
VERSION:2.0
BEGIN:VEVENT
DTSTART;TZID=Europe/Stockholm:20251021T181500
DTEND;TZID=Europe/Stockholm:20251021T191500
DTSTAMP:20260421T051921
DESCRIPTION:
SEQUENCE:0
SUMMARY:Scouterna på Ölmeklint
UID:7875@lawebb.se
END:VEVENT
END:VCALENDAR