BEGIN:VCALENDAR
VERSION:2.0
BEGIN:VEVENT
DTSTART;TZID=Europe/Stockholm:20251019T110000
DTEND;TZID=Europe/Stockholm:20251019T120000
DTSTAMP:20260421T051747
DESCRIPTION:Ekumenisk gudstjänst med nattvard tillsammans med predikant Sara Flodquist och musiker Malena Karlsson och GOA2.
SEQUENCE:0
SUMMARY:Gudstjänst i Klippan
UID:7649@lawebb.se
END:VEVENT
END:VCALENDAR