BEGIN:VCALENDAR
VERSION:2.0
BEGIN:VEVENT
DTSTART;TZID=Europe/Stockholm:20251012T110000
DTEND;TZID=Europe/Stockholm:20251012T120000
DTSTAMP:20260421T051926
DESCRIPTION:Joakim Götborg med flera bl.a. scouter
SEQUENCE:0
SUMMARY:Gudstjänst i Eqk Väse
UID:6982@lawebb.se
END:VEVENT
END:VCALENDAR