BEGIN:VCALENDAR
VERSION:2.0
BEGIN:VEVENT
DTSTART;TZID=Europe/Stockholm:20251011T000000
DTEND;TZID=Europe/Stockholm:20251011T240000
DTSTAMP:20260421T051948
DESCRIPTION:Samåk gärna till Fagerås. Där är det konserter i 6 olika lokaler under lördagen.
SEQUENCE:0
SUMMARY:Gospelfestivalen i Fagerås
UID:5229@lawebb.se
END:VEVENT
END:VCALENDAR