BEGIN:VCALENDAR
VERSION:2.0
BEGIN:VEVENT
DTSTART;TZID=Europe/Stockholm:20251011T000000
DTEND;TZID=Europe/Stockholm:20251011T240000
DTSTAMP:20260421T052259
DESCRIPTION:
SEQUENCE:0
SUMMARY:Återbud från Ingemar Ekström. Ingen cafékväll
UID:2789@lawebb.se
END:VEVENT
END:VCALENDAR