BEGIN:VCALENDAR
VERSION:2.0
BEGIN:VEVENT
DTSTART;TZID=Europe/Stockholm:20251008T203000
DTEND;TZID=Europe/Stockholm:20251008T213000
DTSTAMP:20260421T051825
DESCRIPTION:
SEQUENCE:0
SUMMARY:Bön i Klippan och hemma
UID:2623@lawebb.se
END:VEVENT
END:VCALENDAR