BEGIN:VCALENDAR
VERSION:2.0
BEGIN:VEVENT
DTSTART;TZID=Europe/Stockholm:20251007T181500
DTEND;TZID=Europe/Stockholm:20251007T191500
DTSTAMP:20260421T051927
DESCRIPTION:
SEQUENCE:0
SUMMARY:Scouterna på Ölmeklint
UID:3682@lawebb.se
END:VEVENT
END:VCALENDAR