BEGIN:VCALENDAR
VERSION:2.0
BEGIN:VEVENT
DTSTART;TZID=Europe/Stockholm:20251007T140000
DTEND;TZID=Europe/Stockholm:20251007T150000
DTSTAMP:20260421T051825
DESCRIPTION:Kom och var med hela tiden eller kanske bara gofika vid 3-tiden.
SEQUENCE:0
SUMMARY:Café Klippan kl 14-16
UID:5236@lawebb.se
END:VEVENT
END:VCALENDAR