BEGIN:VCALENDAR
VERSION:2.0
BEGIN:VEVENT
DTSTART;TZID=Europe/Stockholm:20251005T180000
DTEND;TZID=Europe/Stockholm:20251005T190000
DTSTAMP:20260421T052132
DESCRIPTION:Aftongudstjänst, men inte med Jenny Persson som lämnat återbud. Det kommer att bli en gudstjänst med olika medverkande. Kom ihåg att ta med något som kan bli till en höstgåva. Kommer bl.a. att finnas hallonplantor.
SEQUENCE:0
SUMMARY:Gudstjänst i Klippan
UID:6697@lawebb.se
END:VEVENT
END:VCALENDAR