BEGIN:VCALENDAR
VERSION:2.0
BEGIN:VEVENT
DTSTART;TZID=Europe/Stockholm:20251004T000000
DTEND;TZID=Europe/Stockholm:20251004T240000
DTSTAMP:20260421T051737
DESCRIPTION:På grund av lördagens regnväder med hårda vindbyar har BeRedskapstrampen ställts in. Prata med scoutledarna.
SEQUENCE:0
SUMMARY:Inställt - Värmlandstrampen
UID:7693@lawebb.se
END:VEVENT
END:VCALENDAR