BEGIN:VCALENDAR
VERSION:2.0
BEGIN:VEVENT
DTSTART;TZID=Europe/Stockholm:20250930T181500
DTEND;TZID=Europe/Stockholm:20250930T191500
DTSTAMP:20260421T071136
DESCRIPTION:
SEQUENCE:0
SUMMARY:Scouterna på Ölmeklint
UID:5364@lawebb.se
END:VEVENT
END:VCALENDAR