BEGIN:VCALENDAR
VERSION:2.0
BEGIN:VEVENT
DTSTART;TZID=Europe/Stockholm:20250930T140000
DTEND;TZID=Europe/Stockholm:20250930T150000
DTSTAMP:20260421T071608
DESCRIPTION:Yngve o Pelle spelar och några sångare sjunger med de boende
SEQUENCE:0
SUMMARY:Sångstund på Ölmegården
UID:5869@lawebb.se
END:VEVENT
END:VCALENDAR