BEGIN:VCALENDAR
VERSION:2.0
BEGIN:VEVENT
DTSTART;TZID=Europe/Stockholm:20250928T110000
DTEND;TZID=Europe/Stockholm:20250928T120000
DTSTAMP:20260421T071054
DESCRIPTION:Joakim Götborg m.fl.
SEQUENCE:0
SUMMARY:Gudstjänst i Eqk Väse
UID:8944@lawebb.se
END:VEVENT
END:VCALENDAR