BEGIN:VCALENDAR
VERSION:2.0
BEGIN:VEVENT
DTSTART;TZID=Europe/Stockholm:20250927T000000
DTEND;TZID=Europe/Stockholm:20250927T240000
DTSTAMP:20260421T071844
DESCRIPTION:Lördag och söndag är det på många platser möjlighet att Smaka på Värmland, t.ex. Ölme Diversehandel.
SEQUENCE:0
SUMMARY:Smaka på Värmland kl 10-16
UID:3264@lawebb.se
END:VEVENT
END:VCALENDAR