BEGIN:VCALENDAR
VERSION:2.0
BEGIN:VEVENT
DTSTART;TZID=Europe/Stockholm:20260205T203000
DTEND;TZID=Europe/Stockholm:20260205T213000
DTSTAMP:20260421T060346
DESCRIPTION:
SEQUENCE:0
SUMMARY:Bön i Klippan och hemma
UID:9989@lawebb.se
END:VEVENT
END:VCALENDARBEGIN:VCALENDAR
VERSION:2.0
BEGIN:VEVENT
DTSTART;TZID=Europe/Stockholm:20250924T203000
DTEND;TZID=Europe/Stockholm:20250924T213000
DTSTAMP:20260421T071143
DESCRIPTION:
SEQUENCE:0
SUMMARY:Bön i Klippan och hemma
UID:5739@lawebb.se
END:VEVENT
END:VCALENDAR