BEGIN:VCALENDAR
VERSION:2.0
BEGIN:VEVENT
DTSTART;TZID=Europe/Stockholm:20250923T181500
DTEND;TZID=Europe/Stockholm:20250923T191500
DTSTAMP:20260421T071318
DESCRIPTION:
SEQUENCE:0
SUMMARY:Scouterna på Ölmeklint
UID:8523@lawebb.se
END:VEVENT
END:VCALENDAR