BEGIN:VCALENDAR
VERSION:2.0
BEGIN:VEVENT
DTSTART;TZID=Europe/Stockholm:20250923T140000
DTEND;TZID=Europe/Stockholm:20250923T150000
DTSTAMP:20260421T071235
DESCRIPTION:Start av terminen denna dag. Kom och var med hela tiden eller kanske bara fika vid 3-tiden.
SEQUENCE:0
SUMMARY:Café Klippan kl 14-16
UID:9773@lawebb.se
END:VEVENT
END:VCALENDAR