BEGIN:VCALENDAR
VERSION:2.0
BEGIN:VEVENT
DTSTART;TZID=Europe/Stockholm:20250921T110000
DTEND;TZID=Europe/Stockholm:20250921T120000
DTSTAMP:20260421T071029
DESCRIPTION:Verksamheten har nu flyttat tillbaka till Klippan och startar med gudstjänst tillsammans med Ulf Eriksson. Barndop.
Ta gärna med något som kan &#34;köpas&#34; som höstgåva till församlingen. Vi fortsätter så under hösten.
SEQUENCE:0
SUMMARY:Gudstjänst i Klippan
UID:7426@lawebb.se
END:VEVENT
END:VCALENDAR