BEGIN:VCALENDAR
VERSION:2.0
BEGIN:VEVENT
DTSTART;TZID=Europe/Stockholm:20250920T000000
DTEND;TZID=Europe/Stockholm:20250920T240000
DTSTAMP:20260421T071951
DESCRIPTION:Runt om i kommunen är det denna dag öppet i många loppisar.
SEQUENCE:0
SUMMARY:Loppisdag kl 10-15
UID:8849@lawebb.se
END:VEVENT
END:VCALENDAR