BEGIN:VCALENDAR
VERSION:2.0
BEGIN:VEVENT
DTSTART;TZID=Europe/Stockholm:20250917T203000
DTEND;TZID=Europe/Stockholm:20250917T213000
DTSTAMP:20260421T071413
DESCRIPTION:
SEQUENCE:0
SUMMARY:Bön på Ölmeklint och hemma
UID:9388@lawebb.se
END:VEVENT
END:VCALENDAR