BEGIN:VCALENDAR
VERSION:2.0
BEGIN:VEVENT
DTSTART;TZID=Europe/Stockholm:20250915T000000
DTEND;TZID=Europe/Stockholm:20250915T240000
DTSTAMP:20260421T071715
DESCRIPTION:Styrelsen sammanträder kl 18 i Klippan.
SEQUENCE:0
SUMMARY:Storstädning i Klippan denna vecka
UID:3429@lawebb.se
END:VEVENT
END:VCALENDAR