BEGIN:VCALENDAR
VERSION:2.0
BEGIN:VEVENT
DTSTART;TZID=Europe/Stockholm:20250914T110000
DTEND;TZID=Europe/Stockholm:20250914T120000
DTSTAMP:20260421T071633
DESCRIPTION:Joakim Götborg m.fl.
SEQUENCE:0
SUMMARY:Gudstjänst hos Eqk Väse
UID:2474@lawebb.se
END:VEVENT
END:VCALENDAR